BEGIN:VCALENDAR
VERSION:2.0
PRODID:-//ChamberMaster//Event Calendar 2.0//EN
METHOD:PUBLISH
X-PUBLISHED-TTL:P3D
REFRESH-INTERVAL:P3D
CALSCALE:GREGORIAN
BEGIN:VEVENT
DTSTART:20250124T004500Z
DTEND:20250124T040000Z
X-MICROSOFT-CDO-ALLDAYEVENT:FALSE
SUMMARY:20 Under 40
DESCRIPTION:This is an evening event\, formal attire.\n\n4:45pm  Doors Open\n\n5:00pm Cocktail Hour with Live Music by Joel Gibson Jr.\n\n6:15pm Program Begins\n\nSurf and Turf Style Heavy Hors d'ouevres\n\n   Beef and Shrimp skewers Family style\n\n   Plated baked potato with Grilled Vegetable Kabobs\n\n   Chimichurri and Lemon Garlic Aioli Sauces
X-ALT-DESC;FMTTYPE=text/html:<p style="box-sizing: border-box\; margin: 0px\; padding: 0px 0px 1em\; border: 0px\; outline: 0px\; font-size: 14px\; text-size-adjust: 100%\; vertical-align: baseline\; background-image: initial\; background-position: initial\; background-size: initial\; background-repeat: initial\; background-attachment: initial\; background-origin: initial\; background-clip: initial\; color: rgb(10\, 10\, 10)\; font-family: Montserrat\, Helvetica\, Arial\, Lucida\, sans-serif\;">This is an evening event\, formal attire.</p>\n\n<p style="box-sizing: border-box\; margin: 0px\; padding: 0px 0px 1em\; border: 0px\; outline: 0px\; font-size: 14px\; text-size-adjust: 100%\; vertical-align: baseline\; background-image: initial\; background-position: initial\; background-size: initial\; background-repeat: initial\; background-attachment: initial\; background-origin: initial\; background-clip: initial\; color: rgb(10\, 10\, 10)\; font-family: Montserrat\, Helvetica\, Arial\, Lucida\, sans-serif\;">4:45pm &nbsp\;Doors Open</p>\n\n<p style="box-sizing: border-box\; margin: 0px\; padding: 0px 0px 1em\; border: 0px\; outline: 0px\; font-size: 14px\; text-size-adjust: 100%\; vertical-align: baseline\; background-image: initial\; background-position: initial\; background-size: initial\; background-repeat: initial\; background-attachment: initial\; background-origin: initial\; background-clip: initial\; color: rgb(10\, 10\, 10)\; font-family: Montserrat\, Helvetica\, Arial\, Lucida\, sans-serif\;">5:00pm Cocktail Hour with Live Music by Joel Gibson Jr.</p>\n\n<p style="box-sizing: border-box\; margin: 0px\; padding: 0px\; border: 0px\; outline: 0px\; font-size: 14px\; text-size-adjust: 100%\; vertical-align: baseline\; background-image: initial\; background-position: initial\; background-size: initial\; background-repeat: initial\; background-attachment: initial\; background-origin: initial\; background-clip: initial\; color: rgb(10\, 10\, 10)\; font-family: Montserrat\, Helvetica\, Arial\, Lucida\, sans-serif\;">6:15pm Program Begins</p>\n\n<div class="x_x_x_elementToProof" style="box-sizing: border-box\; margin: 0px\; padding: 0px\; border: 0px\; outline: 0px\; font-size: 14px\; text-size-adjust: 100%\; vertical-align: baseline\; background-image: initial\; background-position: initial\; background-size: initial\; background-repeat: initial\; background-attachment: initial\; background-origin: initial\; background-clip: initial\; color: rgb(10\, 10\, 10)\; font-family: Montserrat\, Helvetica\, Arial\, Lucida\, sans-serif\;"><span style="box-sizing: border-box\; margin: 0px\; padding: 0px\; border: 0px\; outline: 0px\; text-size-adjust: 100%\; vertical-align: baseline\; background: transparent\; font-weight: 700\;"><span class="outlook-search-highlight" data-markjs="true" style="box-sizing: border-box\; margin: 0px\; padding: 0px\; border: 0px\; outline: 0px\; text-size-adjust: 100%\; vertical-align: baseline\; background: transparent\;">Surf</span>&nbsp\;<span class="outlook-search-highlight" data-markjs="true" style="box-sizing: border-box\; margin: 0px\; padding: 0px\; border: 0px\; outline: 0px\; text-size-adjust: 100%\; vertical-align: baseline\; background: transparent\;">and</span>&nbsp\;<span class="outlook-search-highlight" data-markjs="true" style="box-sizing: border-box\; margin: 0px\; padding: 0px\; border: 0px\; outline: 0px\; text-size-adjust: 100%\; vertical-align: baseline\; background: transparent\;">Turf</span>&nbsp\;Style Heavy Hors d&rsquo\;ouevres</span></div>\n\n<div class="x_x_x_elementToProof" style="box-sizing: border-box\; margin: 0px\; padding: 0px\; border: 0px\; outline: 0px\; font-size: 14px\; text-size-adjust: 100%\; vertical-align: baseline\; background-image: initial\; background-position: initial\; background-size: initial\; background-repeat: initial\; background-attachment: initial\; background-origin: initial\; background-clip: initial\; color: rgb(10\, 10\, 10)\; font-family: Montserrat\, Helvetica\, Arial\, Lucida\, sans-serif\;">&nbsp\; &nbsp\;Beef&nbsp\;<span class="outlook-search-highlight" data-markjs="true" style="box-sizing: border-box\; margin: 0px\; padding: 0px\; border: 0px\; outline: 0px\; text-size-adjust: 100%\; vertical-align: baseline\; background: transparent\;">and</span>&nbsp\;Shrimp skewers Family style</div>\n\n<div class="x_x_x_elementToProof" style="box-sizing: border-box\; margin: 0px\; padding: 0px\; border: 0px\; outline: 0px\; font-size: 14px\; text-size-adjust: 100%\; vertical-align: baseline\; background-image: initial\; background-position: initial\; background-size: initial\; background-repeat: initial\; background-attachment: initial\; background-origin: initial\; background-clip: initial\; color: rgb(10\, 10\, 10)\; font-family: Montserrat\, Helvetica\, Arial\, Lucida\, sans-serif\;">&nbsp\; &nbsp\;Plated baked potato with Grilled Vegetable Kabobs</div>\n\n<div class="x_x_x_elementToProof" style="box-sizing: border-box\; margin: 0px\; padding: 0px\; border: 0px\; outline: 0px\; font-size: 14px\; text-size-adjust: 100%\; vertical-align: baseline\; background-image: initial\; background-position: initial\; background-size: initial\; background-repeat: initial\; background-attachment: initial\; background-origin: initial\; background-clip: initial\; color: rgb(10\, 10\, 10)\; font-family: Montserrat\, Helvetica\, Arial\, Lucida\, sans-serif\;">&nbsp\; &nbsp\;Chimichurri&nbsp\;<span class="outlook-search-highlight" data-markjs="true" style="box-sizing: border-box\; margin: 0px\; padding: 0px\; border: 0px\; outline: 0px\; text-size-adjust: 100%\; vertical-align: baseline\; background: transparent\;">and</span>&nbsp\;Lemon Garlic Aioli Sauces</div>\n
LOCATION:Kitsap Conference Center 100 Washington Avenue Bremerton\, WA 98337
UID:e.2061.10685
SEQUENCE:3
DTSTAMP:20260426T034508Z
URL:https://business.greaterkitsapchamber.com/events/details/20-under-40-10685
END:VEVENT

END:VCALENDAR
