BEGIN:VCALENDAR
VERSION:2.0
PRODID:-//ChamberMaster//Event Calendar 2.0//EN
METHOD:PUBLISH
X-PUBLISHED-TTL:P3D
REFRESH-INTERVAL:P3D
CALSCALE:GREGORIAN
BEGIN:VEVENT
DTSTART;VALUE=DATE:20240214
DTEND;VALUE=DATE:20240215
TRANSP:TRANSPARENT
X-MICROSOFT-CDO-ALLDAYEVENT:TRUE
SUMMARY:Admiral Theatre Presents - Sleepless in Seattle
DESCRIPTION:
X-ALT-DESC;FMTTYPE=text/html:
LOCATION:Admiral Theatre 515 Pacific Ave Bremerton\, 98337
UID:e.2061.10342
SEQUENCE:3
DTSTAMP:20260419T190207Z
URL:https://business.greaterkitsapchamber.com/events/details/admiral-theatre-presents-sleepless-in-seattle-10342
END:VEVENT

END:VCALENDAR
