BEGIN:VCALENDAR
VERSION:2.0
PRODID:-//ChamberMaster//Event Calendar 2.0//EN
METHOD:PUBLISH
X-PUBLISHED-TTL:P3D
REFRESH-INTERVAL:P3D
CALSCALE:GREGORIAN
BEGIN:VEVENT
DTSTART:20231014T040000Z
DTEND:20231014T053000Z
X-MICROSOFT-CDO-ALLDAYEVENT:FALSE
SUMMARY:Admiral Theatre Presents - The Rocky Horror Picture Show
DESCRIPTION:
X-ALT-DESC;FMTTYPE=text/html:
LOCATION:Admiral Theatre 515 Pacific Ave Bremerton\, 98337
UID:e.2061.10331
SEQUENCE:3
DTSTAMP:20260419T152706Z
URL:https://business.greaterkitsapchamber.com/events/details/admiral-theatre-presents-the-rocky-horror-picture-show-10331
END:VEVENT

END:VCALENDAR
