BEGIN:VCALENDAR
VERSION:2.0
PRODID:-//ChamberMaster//Event Calendar 2.0//EN
METHOD:PUBLISH
X-PUBLISHED-TTL:P3D
REFRESH-INTERVAL:P3D
CALSCALE:GREGORIAN
BEGIN:VEVENT
DTSTART:20250719T020000Z
DTEND:20250719T050000Z
X-MICROSOFT-CDO-ALLDAYEVENT:FALSE
SUMMARY:Ahoy! Kick off Kitsap’s Pride Weekend in Style!
DESCRIPTION:This year\, Kitsap Pride is taking over the USS Turner Joy in Bremerton! We will feature Tito's Vodka for our cocktails\, a live DJ\, and stunning views. Tickets are only available in advance. Access instructions will be emailed to ticketholders. \n\nTito's Handmade Vodka and Swire Coca-Cola are both returning as proud sponsors of Kitsap Pride. \n\nParking is available on the street\, plus paid parking in the marina garage. Free parking up at the Washington Ave. Garage.
X-ALT-DESC;FMTTYPE=text/html:<p style="box-sizing: inherit\; margin: 0px 0px 1.5em\; padding: 0px\; font-family: &quot\;Libre Franklin&quot\;\, &quot\;Helvetica Neue&quot\;\, helvetica\, arial\, sans-serif\; font-size: 16px\;">This year\, Kitsap Pride is&nbsp\;taking over the&nbsp\;<span style="box-sizing: inherit\; font-weight: 700\;">USS Turner Joy&nbsp\;</span>in Bremerton! We will feature Tito&rsquo\;s Vodka for our cocktails\, a live DJ\, and stunning views. Tickets are only available in advance.&nbsp\;Access instructions will be emailed to ticketholders.&nbsp\;</p>\n\n<p style="box-sizing: inherit\; margin: 0px 0px 1.5em\; padding: 0px\; font-family: &quot\;Libre Franklin&quot\;\, &quot\;Helvetica Neue&quot\;\, helvetica\, arial\, sans-serif\; font-size: 16px\;">Tito&rsquo\;s Handmade Vodka and Swire Coca-Cola are both returning as proud sponsors of Kitsap Pride.&nbsp\;</p>\n\n<p style="box-sizing: inherit\; margin: 0px 0px 1.5em\; padding: 0px\; font-family: &quot\;Libre Franklin&quot\;\, &quot\;Helvetica Neue&quot\;\, helvetica\, arial\, sans-serif\; font-size: 16px\;">Parking is available on the street\, plus paid parking in the marina garage.&nbsp\;Free parking up at the Washington Ave. Garage.</p>\n
LOCATION:USS Turner Joy 300 Washington Beach Ave. Bremerton\, WA 98310
UID:e.2061.10894
SEQUENCE:3
DTSTAMP:20260425T135100Z
URL:https://business.greaterkitsapchamber.com/events/details/ahoy-kick-off-kitsap-s-pride-weekend-in-style-10894
END:VEVENT

END:VCALENDAR
