BEGIN:VCALENDAR
VERSION:2.0
PRODID:-//ChamberMaster//Event Calendar 2.0//EN
METHOD:PUBLISH
X-PUBLISHED-TTL:P3D
REFRESH-INTERVAL:P3D
CALSCALE:GREGORIAN
BEGIN:VEVENT
DTSTART;VALUE=DATE:20250621
DTEND;VALUE=DATE:20250622
TRANSP:TRANSPARENT
X-MICROSOFT-CDO-ALLDAYEVENT:TRUE
SUMMARY:Bainbridge Pride
DESCRIPTION:?? Bainbridge Pride Festival   June 21st! ?? Join us in celebrating love\, inclusion\, and community at the Bainbridge Pride Festival on Friday\, June 21st in downtown Winslow! ?? We're calling on our amazing community to get involved   whether you're a local business interested in a vendor booth\, or someone passionate about supporting equality who wants to volunteer\, we'd love to have you! ?? Visit bainbridgepride.org or email emily@bainbridgepride.org to sign up or learn more. Let's make this the most vibrant and joyful Pride yet! ??? #BainbridgePride #Pride2025 #LoveIsLove
X-ALT-DESC;FMTTYPE=text/html:?? Bainbridge Pride Festival &ndash\; June 21st! ?? Join us in celebrating love\, inclusion\, and community at the Bainbridge Pride Festival on Friday\, June 21st in downtown Winslow! ?? We&rsquo\;re calling on our amazing community to get involved &ndash\; whether you&#39\;re a local business interested in a vendor booth\, or someone passionate about supporting equality who wants to volunteer\, we&rsquo\;d love to have you! ?? Visit bainbridgepride.org or email emily@bainbridgepride.org to sign up or learn more. Let&rsquo\;s make this the most vibrant and joyful Pride yet! ??? #BainbridgePride #Pride2025 #LoveIsLove
LOCATION:Waterfront Park
UID:e.2061.10874
SEQUENCE:3
DTSTAMP:20260425T183615Z
URL:https://business.greaterkitsapchamber.com/events/details/bainbridge-pride-06-21-2025-10874
END:VEVENT

END:VCALENDAR
