BEGIN:VCALENDAR
VERSION:2.0
PRODID:-//ChamberMaster//Event Calendar 2.0//EN
METHOD:PUBLISH
X-PUBLISHED-TTL:P3D
REFRESH-INTERVAL:P3D
CALSCALE:GREGORIAN
BEGIN:VEVENT
DTSTART:20230714T000000Z
DTEND:20230714T030000Z
X-MICROSOFT-CDO-ALLDAYEVENT:FALSE
SUMMARY:Bremerton Green Drinks
DESCRIPTION:Mix. Engage. Repeat
X-ALT-DESC;FMTTYPE=text/html:Mix. Engage. Repeat
LOCATION:Kitsap Credit Union 155 Washington Ave Bremerton\, WA 98337
UID:e.2061.10513
SEQUENCE:3
DTSTAMP:20260421T143639Z
URL:https://business.greaterkitsapchamber.com/events/details/bremerton-green-drinks-10513
END:VEVENT

END:VCALENDAR
