BEGIN:VCALENDAR
VERSION:2.0
PRODID:-//ChamberMaster//Event Calendar 2.0//EN
METHOD:PUBLISH
X-PUBLISHED-TTL:P3D
REFRESH-INTERVAL:P3D
CALSCALE:GREGORIAN
BEGIN:VEVENT
DTSTART:20250118T220000Z
DTEND:20250119T000000Z
X-MICROSOFT-CDO-ALLDAYEVENT:FALSE
SUMMARY:Clearbrook Inn Open House
DESCRIPTION:Join us for an open house! Enjoy guided tours\, wine\, and delicious hors d'oeuvres as you explore all we have to offer.\n\n\n\nFor any questions\, please call (360) 795-5114.
X-ALT-DESC;FMTTYPE=text/html:Join us for an open house! Enjoy guided tours\, wine\, and delicious hors d&#39\;oeuvres as you explore all we have to offer.<br />\n<br />\nFor any questions\, please call (360) 795-5114.
LOCATION:2333 NW Schold Place Silverdale\, WA 98383
UID:e.2061.10682
SEQUENCE:3
DTSTAMP:20260426T034107Z
URL:https://business.greaterkitsapchamber.com/events/details/clearbrook-inn-open-house-10682
END:VEVENT

END:VCALENDAR
