BEGIN:VCALENDAR
VERSION:2.0
PRODID:-//ChamberMaster//Event Calendar 2.0//EN
METHOD:PUBLISH
X-PUBLISHED-TTL:P3D
REFRESH-INTERVAL:P3D
CALSCALE:GREGORIAN
BEGIN:VEVENT
DTSTART:20230407T000000Z
DTEND:20230407T020000Z
X-MICROSOFT-CDO-ALLDAYEVENT:FALSE
SUMMARY:Community Clean Up
DESCRIPTION:Beautification of Downtown Bremerton\n\n4th and 5th Street Community Cleanup
X-ALT-DESC;FMTTYPE=text/html:Beautification of Downtown Bremerton<br />\n4th and 5th Street Community Cleanup
LOCATION:Meet @ The Roxy 270 Fourth Street Bremerton\, WA 98337
UID:e.2061.10168
SEQUENCE:3
DTSTAMP:20260425T180627Z
URL:https://business.greaterkitsapchamber.com/events/details/community-clean-up-10168
END:VEVENT

END:VCALENDAR
