BEGIN:VCALENDAR
VERSION:2.0
PRODID:-//ChamberMaster//Event Calendar 2.0//EN
METHOD:PUBLISH
X-PUBLISHED-TTL:P3D
REFRESH-INTERVAL:P3D
CALSCALE:GREGORIAN
BEGIN:VEVENT
DTSTART:20250610T210000Z
DTEND:20250610T230000Z
X-MICROSOFT-CDO-ALLDAYEVENT:FALSE
SUMMARY:Deep-Dive Business Series
DESCRIPTION:The Greater Kitsap Chamber is expanding its Business & Professional Development offerings in 2025\, bringing you even more opportunities to grow and thrive.\n\n \n\nIs this the year you take your business and professional skills to the next level?\n\n \n\nYou can?with our 4-part development series designed for those ready to go beyond the basics and dive deeper into the strategies that drive long-term success.\n\n \n\nThis series is not just another workshop?it?s a deeper focused supplement to the Chamber?s existing business training programs. Each session is designed to go below the surface of business development\, equipping you with the insights and tools needed to sustain and scale your success.\n\n\n\n  Session 2 (June 10th) - Cultivating Customers\n\nReady to attract the right customers and turn them into loyal supporters?\n\n\n\nThis session is designed to help you go beyond general marketing and focus on what really works?understanding\, targeting\, and truly connecting with the people you serve.\n\nTopics Covered:\n\n  Defining Your Ideal Customer ? Learn how to create a clear customer persona to better understand who you?re trying to reach and what they truly want.\n\n  Targeting with Local Tools ? Discover how to leverage a free local resource to identify\, locate\, and effectively market to your ideal customer base.\n\n  Crafting a Compelling Story ? Explore how to tell your business/brand story in a way that builds connection\, trust\, and turns customers into loyal advocates.\n\nWhy Attend?\n\n  Learn practical\, actionable strategies for identifying and connecting with your ideal customers in meaningful ways.\n\n  Leave with a clear plan to refine your messaging\, build trust through storytelling\, and attract the right audience to grow your business.\n\nReserve your spot now and get ready to connect with your customers like never before!
X-ALT-DESC;FMTTYPE=text/html:<p style="margin: 0px\; padding: 0px\;"><span style="font-size: 14px\; font-family: Roboto\, sans-serif\;">The Greater Kitsap Chamber is expanding its Business &amp\; Professional Development offerings in 2025\, bringing you even more opportunities to grow and thrive.</span></p>\n\n<p style="margin: 0px\; padding: 0px\;">&nbsp\;</p>\n\n<p style="margin: 0px\; padding: 0px\;"><span style="font-size: 14px\; font-family: Roboto\, sans-serif\;">Is this the year you take your business and professional skills to the next level?</span></p>\n\n<p style="margin: 0px\; padding: 0px\;">&nbsp\;</p>\n\n<p style="margin: 0px\; padding: 0px\;"><span style="font-size: 14px\; font-family: Roboto\, sans-serif\;">You can?with our&nbsp\;4-part&nbsp\;development&nbsp\;series&nbsp\;designed for those ready to&nbsp\;go beyond the basics&nbsp\;and dive deeper into the strategies that drive long-term success.</span></p>\n\n<p style="margin: 0px\; padding: 0px\;">&nbsp\;</p>\n\n<p style="margin: 0px\; padding: 0px\;"><span style="font-size: 14px\; font-family: Roboto\, sans-serif\;">This series is not just another workshop?it?s a deeper focused supplement to the Chamber?s existing business training programs.&nbsp\;Each session is designed to go below the surface of business development\, equipping you with the insights and tools needed to sustain and scale your success.</span></p>\n\n<p style="margin: 0px\; padding: 0px\;"><br />\n<span style="font-size:18px\;"><span style="color: rgb(0\, 0\, 0)\; font-family: Roboto\, sans-serif\;">&#128205\;&nbsp\;Session 2&nbsp\;(June 10th)&nbsp\;- <strong>Cultivating Customers</strong></span></span></p>\n\n<p style="margin: 0px\; padding: 0px\; color: rgb(64\, 63\, 66)\; font-family: Arial\, Verdana\, Helvetica\, sans-serif\; font-size: 12px\; white-space-collapse: preserve\; background-color: rgb(255\, 255\, 255)\;"><span style="font-size:14px\;"><span style="font-family:arial\;"><span style="color:black\;">Ready to attract the right customers and turn them into loyal supporters?</span><br />\n<br />\n<span style="font-variant-numeric:normal\;font-variant-east-asian:normal\;font-variant-alternates:normal\;"><span style="color:black\;">This session is designed to help you go beyond general marketing and focus on what really works?understanding\, targeting\, and truly connecting with the people you serve.</span></span><br />\n<strong><span style="color:black\;">Topics Covered:</span></strong><br />\n<span style="font-variant-numeric:normal\;font-variant-east-asian:normal\;font-variant-alternates:normal\;"><span style="color:black\;">&#128313\;</span></span> <strong><span style="font-variant-numeric:normal\;font-variant-east-asian:normal\;font-variant-alternates:normal\;text-decoration-line:underline\;">Defining Your Ideal Customer</span></strong><span style="font-variant-numeric:normal\;font-variant-east-asian:normal\;font-variant-alternates:normal\;"> ? Learn how to create a clear customer persona to better understand who you?re trying to reach and what they truly want.</span><br />\n<span style="font-variant-numeric:normal\;font-variant-east-asian:normal\;font-variant-alternates:normal\;"><span style="color:black\;">&#128313\;</span></span> <strong><span style="font-variant-numeric:normal\;font-variant-east-asian:normal\;font-variant-alternates:normal\;text-decoration-line:underline\;">Targeting with Local Tools</span></strong><span style="font-variant-numeric:normal\;font-variant-east-asian:normal\;font-variant-alternates:normal\;"> ? Discover how to leverage a free local resource to identify\, locate\, and effectively market to your ideal customer base.</span><br />\n<span style="font-variant-numeric:normal\;font-variant-east-asian:normal\;font-variant-alternates:normal\;"><span style="color:black\;">&#128313\;</span></span> <strong><span style="font-variant-numeric:normal\;font-variant-east-asian:normal\;font-variant-alternates:normal\;text-decoration-line:underline\;">Crafting a Compelling Story</span></strong><span style="font-variant-numeric:normal\;font-variant-east-asian:normal\;font-variant-alternates:normal\;"> ? Explore how to tell your business/brand story in a way that builds connection\, trust\, and turns customers into loyal advocates.</span></span></span></p>\n\n<h3 style="margin-top:14.0pt\;margin-right:0in\;margin-bottom:4.0pt\;margin-left:0in\;"><span style="font-size:14px\;"><span style="font-family:arial\;"><span style="font-variant-numeric:normal\;font-variant-east-asian:normal\;font-variant-alternates:normal\;"><span style="color:black\;">Why Attend?</span></span></span></span></h3>\n\n<p style="margin: 0px\; padding: 0px\; color: rgb(64\, 63\, 66)\; font-family: Arial\, Verdana\, Helvetica\, sans-serif\; font-size: 12px\; white-space-collapse: preserve\; background-color: rgb(255\, 255\, 255)\;"><span style="font-size:14px\;"><span style="font-family:arial\;"><span style="font-variant-numeric:normal\;font-variant-east-asian:normal\;font-variant-alternates:normal\;"><span style="color:black\;">&#9989\;</span></span><span style="color:black\;"> Learn practical\, actionable strategies for identifying and connecting with your ideal customers in meaningful ways.</span><br />\n<span style="font-variant-numeric:normal\;font-variant-east-asian:normal\;font-variant-alternates:normal\;"><span style="color:black\;">&#9989\;</span></span><span style="color:black\;"> Leave with a clear plan to refine your messaging\, build trust through storytelling\, and attract the right audience to grow your business.</span><br />\n<span style="font-variant-numeric:normal\;font-variant-east-asian:normal\;font-variant-alternates:normal\;"><strong><span style="color:black\;">Reserve your spot now and get ready to connect with your customers like never before!</span></strong></span></span></span><br />\n&nbsp\;</p>\n
LOCATION:Kitsap Regional Library - Sylvan Way Branch 1301 Sylvan Way Bremerton\, WA 98310
UID:e.2061.10873
SEQUENCE:3
DTSTAMP:20260425T153049Z
URL:https://business.greaterkitsapchamber.com/events/details/deep-dive-business-series-10873
END:VEVENT

END:VCALENDAR
