BEGIN:VCALENDAR
VERSION:2.0
PRODID:-//ChamberMaster//Event Calendar 2.0//EN
METHOD:PUBLISH
X-PUBLISHED-TTL:P3D
REFRESH-INTERVAL:P3D
CALSCALE:GREGORIAN
BEGIN:VEVENT
DTSTART:20250812T210000Z
DTEND:20250812T230000Z
X-MICROSOFT-CDO-ALLDAYEVENT:FALSE
SUMMARY:Deep-Dive Business Series
DESCRIPTION:The Greater Kitsap Chamber is expanding its Business & Professional Development offerings in 2025\, bringing you even more opportunities to grow and thrive.\n\n \n\nIs this the year you take your business and professional skills to the next level?\n\n \n\nYou can with our 4-part development series designed for those ready to go beyond the basics and dive deeper into the strategies that drive long-term success.\n\n \n\nThis series is not just another workshop\, it's a deeper focused supplement to the Chamber's existing business training programs. Each session is designed to go below the surface of business development\, equipping you with the insights and tools needed to sustain and scale your success.\n\n\n\n  Session 3 (August 12th) - Thriving Locally: Strategies for Brick & Mortar Success\n\nWe will dive into the challenges and opportunities brick-and-mortar businesses face\, such as\, foot traffic\, your physical space\, the customer experience\, creating a strong community presence\, and leveraging local partnerships to build a thriving\, sustainable business.\n\n\n\nFeatured Speakers:\n\nRachael Studebaker\, Studebaker Design Co\n\nBrett Clark\, BC Fitness\n\nSuzanne Campbell\, Bremerton Community Farmer's Market\n\nCassandra Farrell & Mary Kunish\, Kitsap Art Center\n\nBittina Sheen\, Away with Words Bookshop
X-ALT-DESC;FMTTYPE=text/html:<p style="margin: 0px\; padding: 0px\;"><span style="font-size: 14px\; font-family: Roboto\, sans-serif\;">The Greater Kitsap Chamber is expanding its Business &amp\; Professional Development offerings in 2025\, bringing you even more opportunities to grow and thrive.</span></p>\n\n<p style="margin: 0px\; padding: 0px\;">&nbsp\;</p>\n\n<p style="margin: 0px\; padding: 0px\;"><span style="font-size: 14px\; font-family: Roboto\, sans-serif\;">Is this the year you take your business and professional skills to the next level?</span></p>\n\n<p style="margin: 0px\; padding: 0px\;">&nbsp\;</p>\n\n<p style="margin: 0px\; padding: 0px\;"><span style="font-size: 14px\; font-family: Roboto\, sans-serif\;">You can with our&nbsp\;4-part&nbsp\;development&nbsp\;series&nbsp\;designed for those ready to&nbsp\;go beyond the basics&nbsp\;and dive deeper into the strategies that drive long-term success.</span></p>\n\n<p style="margin: 0px\; padding: 0px\;">&nbsp\;</p>\n\n<p style="margin: 0px\; padding: 0px\;"><span style="font-size: 14px\; font-family: Roboto\, sans-serif\;">This series is not just another workshop\, it&#39\;s a deeper focused supplement to the Chamber&#39\;s existing business training programs.&nbsp\;Each session is designed to go below the surface of business development\, equipping you with the insights and tools needed to sustain and scale your success.</span></p>\n\n<p style="margin: 0px\; padding: 0px\;"><br />\n<span style="font-size:18px\;"><span style="color: rgb(0\, 0\, 0)\; font-family: Roboto\, sans-serif\;">&#128205\;&nbsp\;Session 3&nbsp\;(August 12th)&nbsp\;- <strong>Thriving Locally: Strategies for Brick &amp\; Mortar Success</strong></span></span></p>\n\n<p style="margin: 0px\; padding: 0px\; color: rgb(64\, 63\, 66)\; font-family: Arial\, Verdana\, Helvetica\, sans-serif\; font-size: 12px\; white-space-collapse: preserve\; background-color: rgb(255\, 255\, 255)\;"><span style="font-size:14px\;">We will dive into the challenges and opportunities brick-and-mortar businesses face\, such as\, foot traffic\, your physical space\, the customer experience\, creating a strong community presence\, and leveraging local partnerships to build a thriving\, sustainable business.<br />\n<br />\n<strong><span style="font-size:18px\;">Featured Speakers:</span></strong><br />\nRachael Studebaker\, Studebaker Design Co</span></p>\n\n<p style="margin: 0px\; padding: 0px\; color: rgb(64\, 63\, 66)\; font-family: Arial\, Verdana\, Helvetica\, sans-serif\; font-size: 12px\; white-space-collapse: preserve\; background-color: rgb(255\, 255\, 255)\;"><span style="font-size:14px\;">Brett Clark\, BC Fitness</span></p>\n\n<p style="margin: 0px\; padding: 0px\; color: rgb(64\, 63\, 66)\; font-family: Arial\, Verdana\, Helvetica\, sans-serif\; font-size: 12px\; white-space-collapse: preserve\; background-color: rgb(255\, 255\, 255)\;"><span style="font-size:14px\;">Suzanne Campbell\, Bremerton Community Farmer&#39\;s Market</span></p>\n\n<p style="margin: 0px\; padding: 0px\; color: rgb(64\, 63\, 66)\; font-family: Arial\, Verdana\, Helvetica\, sans-serif\; font-size: 12px\; white-space-collapse: preserve\; background-color: rgb(255\, 255\, 255)\;"><span style="font-size:14px\;">Cassandra Farrell &amp\; Mary Kunish\, Kitsap Art Center</span></p>\n\n<p style="margin: 0px\; padding: 0px\; color: rgb(64\, 63\, 66)\; font-family: Arial\, Verdana\, Helvetica\, sans-serif\; font-size: 12px\; white-space-collapse: preserve\; background-color: rgb(255\, 255\, 255)\;"><span style="font-size:14px\;">Bittina Sheen\, Away with Words Bookshop</span><br />\n<br />\n<br />\n&nbsp\;</p>\n
LOCATION:Kitsap Regional Library - Sylvan Way Branch 1301 Sylvan Way Bremerton\, WA 98310
UID:e.2061.10898
SEQUENCE:3
DTSTAMP:20260425T120610Z
URL:https://business.greaterkitsapchamber.com/events/details/deep-dive-business-series-10898
END:VEVENT

END:VCALENDAR
