BEGIN:VCALENDAR
VERSION:2.0
PRODID:-//ChamberMaster//Event Calendar 2.0//EN
METHOD:PUBLISH
X-PUBLISHED-TTL:P3D
REFRESH-INTERVAL:P3D
CALSCALE:GREGORIAN
BEGIN:VEVENT
DTSTART:20250408T233000Z
DTEND:20250409T013000Z
X-MICROSOFT-CDO-ALLDAYEVENT:FALSE
SUMMARY:Divide Community Forest Planning Meeting #1 with GPC
DESCRIPTION:Join us to shape the future of Divide Community Forest! This three-part meeting series will focus on the recently established Divide Community Forest and the ways in which the community (you!) can engage with the forest. Join us to determine how this new community forest can best benefit the people and wildlife of our region. During our first session\, we'll give you an introduction to Great Peninsula Conservancy and the Divide Community Forest. We'll then spend time brainstorming ideas such as: Who makes up our community? Who else can we bring to the planning table? What objectives do we (the community) have for the forest? What benefits do those objectives offer? By the end of this meeting\, we should have a list of many possible community uses and objectives for this new forest. Your voice matters in shaping the future of this community resource! Please RSVP on our website.
X-ALT-DESC;FMTTYPE=text/html:Join us to shape the future of Divide Community Forest! This three-part meeting series will focus on the recently established Divide Community Forest and the ways in which the community (you!) can engage with the forest. Join us to determine how this new community forest can best benefit the people and wildlife of our region. During our first session\, we&rsquo\;ll give you an introduction to Great Peninsula Conservancy and the Divide Community Forest. We&rsquo\;ll then spend time brainstorming ideas such as: Who makes up our community? Who else can we bring to the planning table? What objectives do we (the community) have for the forest? What benefits do those objectives offer? By the end of this meeting\, we should have a list of many possible community uses and objectives for this new forest. Your voice matters in shaping the future of this community resource! Please RSVP on our website.
LOCATION:Village Green Community Center\, Kingston
UID:e.2061.10860
SEQUENCE:3
DTSTAMP:20260425T230029Z
URL:https://business.greaterkitsapchamber.com/events/details/divide-community-forest-planning-meeting-1-with-gpc-10860
END:VEVENT

END:VCALENDAR
