BEGIN:VCALENDAR
VERSION:2.0
PRODID:-//ChamberMaster//Event Calendar 2.0//EN
METHOD:PUBLISH
X-PUBLISHED-TTL:P3D
REFRESH-INTERVAL:P3D
CALSCALE:GREGORIAN
BEGIN:VEVENT
DTSTART:20250422T230000Z
DTEND:20250423T010000Z
X-MICROSOFT-CDO-ALLDAYEVENT:FALSE
SUMMARY:Divide Community Forest Planning Meeting #2 with GPC
DESCRIPTION:Join us to shape the future of Divide Community Forest! This three-part meeting series will focus on the recently established Divide Community Forest and the ways in which the community (you!) can engage with the forest. Join us to determine how this new community forest can best benefit the people and wildlife of our region. In the first public meeting\, community members (you!) developed a wide variety of possible objectives and community benefits for the Divide Community Forest. During Meeting #2\, we'll build on that foundation by: Reviewing the objectives and benefits identified in Meeting #1 Assessing the objectives of highest priority\, both as a group and individually By the end of this meeting\, we should have a refined and prioritized list of objectives that can guide the development of the Divide Community Forest. Your continued input is essential to creating a community forest that truly serves everyone! Please RSVP on our website.
X-ALT-DESC;FMTTYPE=text/html:Join us to shape the future of Divide Community Forest! This three-part meeting series will focus on the recently established Divide Community Forest and the ways in which the community (you!) can engage with the forest. Join us to determine how this new community forest can best benefit the people and wildlife of our region. In the first public meeting\, community members (you!) developed a wide variety of possible objectives and community benefits for the Divide Community Forest. During Meeting #2\, we&rsquo\;ll build on that foundation by: Reviewing the objectives and benefits identified in Meeting #1 Assessing the objectives of highest priority\, both as a group and individually By the end of this meeting\, we should have a refined and prioritized list of objectives that can guide the development of the Divide Community Forest. Your continued input is essential to creating a community forest that truly serves everyone! Please RSVP on our website.
LOCATION:Village Green Community Center\, Kingston
UID:e.2061.10861
SEQUENCE:3
DTSTAMP:20260425T230403Z
URL:https://business.greaterkitsapchamber.com/events/details/divide-community-forest-planning-meeting-2-with-gpc-10861
END:VEVENT

END:VCALENDAR
