BEGIN:VCALENDAR
VERSION:2.0
PRODID:-//ChamberMaster//Event Calendar 2.0//EN
METHOD:PUBLISH
X-PUBLISHED-TTL:P3D
REFRESH-INTERVAL:P3D
CALSCALE:GREGORIAN
BEGIN:VEVENT
DTSTART:20231006T160000Z
DTEND:20231006T230000Z
X-MICROSOFT-CDO-ALLDAYEVENT:FALSE
SUMMARY:Free 1st Fridays: Cowork with us!
DESCRIPTION:On the first Friday of each month\, Vibe Coworks opens its doors to anyone who'd like to experience the power of getting things done in an upbeat\, inspirational and productive professional environment. There's a reason why Vibe is the workplace of choice for people from all industries and walks of life here in Kitsap.
X-ALT-DESC;FMTTYPE=text/html:On the first Friday of each month\, Vibe Coworks opens its doors to anyone who&#39\;d like to experience the power of getting things done in an upbeat\, inspirational and productive professional environment. There&#39\;s a reason why Vibe is the workplace of choice for people from all industries and walks of life here in Kitsap.
LOCATION:Vibe CoWorks 19225 8th Ave NE\, St 201
UID:e.2061.10536
SEQUENCE:3
DTSTAMP:20260419T152506Z
URL:https://business.greaterkitsapchamber.com/events/details/free-1st-fridays-cowork-with-us-10536
END:VEVENT

END:VCALENDAR
