BEGIN:VCALENDAR
VERSION:2.0
PRODID:-//ChamberMaster//Event Calendar 2.0//EN
METHOD:PUBLISH
X-PUBLISHED-TTL:P3D
REFRESH-INTERVAL:P3D
CALSCALE:GREGORIAN
BEGIN:VEVENT
DTSTART:20230901T160000Z
DTEND:20230901T230000Z
X-MICROSOFT-CDO-ALLDAYEVENT:FALSE
SUMMARY:Free First Fridays
DESCRIPTION:On the first Friday of each month\, Vibe Coworks opens its doors to anyone who'd like to experience the power of getting things done in an upbeat\, inspirational and productive professional environment. There's a reason why Vibe is the workplace of choice for people from all industries and walks of life here in Kitsap.
X-ALT-DESC;FMTTYPE=text/html:On the first Friday of each month\, Vibe Coworks opens its doors to anyone who&#39\;d like to experience the power of getting things done in an upbeat\, inspirational and productive professional environment. There&#39\;s a reason why Vibe is the workplace of choice for people from all industries and walks of life here in Kitsap.
LOCATION:19225 8th Ave NE Suite 201 Poulsbo\, Washington 98370
UID:e.2061.10535
SEQUENCE:3
DTSTAMP:20260419T140039Z
URL:https://business.greaterkitsapchamber.com/events/details/free-first-fridays-10535
END:VEVENT

END:VCALENDAR
