BEGIN:VCALENDAR
VERSION:2.0
PRODID:-//ChamberMaster//Event Calendar 2.0//EN
METHOD:PUBLISH
X-PUBLISHED-TTL:P3D
REFRESH-INTERVAL:P3D
CALSCALE:GREGORIAN
BEGIN:VEVENT
DTSTART:20230823T180000Z
DTEND:20230823T200000Z
X-MICROSOFT-CDO-ALLDAYEVENT:FALSE
SUMMARY:General Membership Luncheon
DESCRIPTION:Join us this month for a special luncheon featuring our New Member Showcase and Member Networking\, along with a presentation from Washington's Business Health Trust to learn more about our brand-new member benefit enabling small businesses to get health insurance coverage for their employees.\n\n\n\nWe'll also hear from our new Committee Chairs for 2023-24 - learn more about what our committees do and sign up for one or more to get involved here at the Chamber. You won't want to miss!\n\n\n\n*Members new to the Chamber since July 2022 will be provided with half of a 6-foot table to display information about their business. There are a limited number of tables available\, so contact hello@greaterkitsapchamber.com to reserve your space now. Participants must still register for the luncheon separately.
X-ALT-DESC;FMTTYPE=text/html:<span style="font-size:16px\;"><span style="font-family:arial\;">Join us this month for a special luncheon featuring our <span style="color:#1692b3\;"><strong>New Member Showcase</strong></span> <span style="color:#1692b3\;"><strong>and Member Networking</strong></span>\, along with a presentation from Washington&#39\;s <strong>Business Health Trust</strong> to learn more about our brand-new member benefit enabling small businesses to get health insurance coverage for their employees.<br />\n<br />\nWe&#39\;ll also hear from our new Committee Chairs for 2023-24 - learn more about what our committees do and sign up for one or more to get involved here at the Chamber. You won&#39\;t want to miss!<br />\n<br />\n<em><strong><span style="font-size:12px\;">*Members new to the Chamber since July 2022 will be provided with half of a 6-foot table to display information about their business. There are a limited number of tables available\, so contact <a href="mailto:hello@greaterkitsapchamber.com">hello@greaterkitsapchamber.com</a> to reserve your space now. Participants must still register for the luncheon separately.</span></strong></em></span></span>
LOCATION:Kitsap Golf & Country Club 3885 Golf Club Hill Road NW Bremerton\, WA 98312
UID:e.2061.685
SEQUENCE:3
DTSTAMP:20260420T191126Z
URL:https://business.greaterkitsapchamber.com/events/details/general-membership-luncheon-08-30-2023-685
END:VEVENT

END:VCALENDAR
