BEGIN:VCALENDAR
VERSION:2.0
PRODID:-//ChamberMaster//Event Calendar 2.0//EN
METHOD:PUBLISH
X-PUBLISHED-TTL:P3D
REFRESH-INTERVAL:P3D
CALSCALE:GREGORIAN
BEGIN:VEVENT
DTSTART:20240228T190000Z
DTEND:20240228T210000Z
X-MICROSOFT-CDO-ALLDAYEVENT:FALSE
SUMMARY:General Membership Luncheon
DESCRIPTION:Join us on the 28th as we welcome our special guest speaker\, Beth Wolfe\, Chief Creator and Founder at Platinum L.I.F.E. University & Coaching. Beth will share her tips on increasing your energy and decreasing stress\, and how daily biohacks could improve your business life. Enjoy some business self-care at this month's luncheon - you won't want to miss!\n\n \n\n \n\n*And be sure to bring those raffle prizes for our drawing! Monthly lunch raffles benefit the Chamber Foundation's scholarship programs.
X-ALT-DESC;FMTTYPE=text/html:<div align="center" style="color: rgb(64\, 63\, 66)\; font-family: Arial\, Verdana\, Helvetica\, sans-serif\; font-size: 12px\; text-align: center\;"><span style="font-size: 18px\; font-family: Roboto\, sans-serif\; font-style: italic\;">Join us on the 28th as we welcome our special guest speaker\,&nbsp\;</span><span style="font-size: 18px\; font-family: Roboto\, sans-serif\; font-style: italic\; font-weight: bold\;">Beth Wolfe\, Chief Creator and Founder at Platinum L.I.F.E. University &amp\; Coaching</span><span style="font-size: 18px\; font-family: Roboto\, sans-serif\; font-style: italic\;">. Beth will share her tips on increasing your energy and decreasing stress\, and how daily biohacks could improve your business life. Enjoy some business self-care at this month&#39\;s luncheon - you won&#39\;t want to miss!</span></div>\n\n<div align="center" style="color: rgb(64\, 63\, 66)\; font-family: Arial\, Verdana\, Helvetica\, sans-serif\; font-size: 12px\; text-align: center\;">&nbsp\;</div>\n\n<div align="center" style="color: rgb(64\, 63\, 66)\; font-family: Arial\, Verdana\, Helvetica\, sans-serif\; font-size: 12px\; text-align: center\;">&nbsp\;</div>\n\n<div align="center" style="color: rgb(64\, 63\, 66)\; font-family: Arial\, Verdana\, Helvetica\, sans-serif\; font-size: 12px\; text-align: center\;"><span style="font-size: 16px\; font-family: Roboto\, sans-serif\; font-style: italic\; font-weight: bold\;">*And be sure to bring those raffle prizes for our drawing! Monthly lunch raffles benefit the Chamber Foundation&#39\;s scholarship programs.</span></div>\n
LOCATION:Kitsap Golf & Country Club 3885 NW Golf Club Hill Road Bremerton\, WA 98312
UID:e.2061.10581
SEQUENCE:3
DTSTAMP:20260419T190645Z
URL:https://business.greaterkitsapchamber.com/events/details/general-membership-luncheon-10581
END:VEVENT

END:VCALENDAR
