BEGIN:VCALENDAR
VERSION:2.0
PRODID:-//ChamberMaster//Event Calendar 2.0//EN
METHOD:PUBLISH
X-PUBLISHED-TTL:P3D
REFRESH-INTERVAL:P3D
CALSCALE:GREGORIAN
BEGIN:VEVENT
DTSTART:20250723T180000Z
DTEND:20250723T200000Z
X-MICROSOFT-CDO-ALLDAYEVENT:FALSE
SUMMARY:General Membership Luncheon
DESCRIPTION:Join us this month at Olympic College as we celebrate summer with our annual luncheon benefitting the Greater Kitsap Chamber Foundation and scholarship programs. Enjoy fun games and networking while we fundraise to support foundation programs\, along with delicious summer bites courtesy of McCloud's Burger Wagon.\n\n\n\nWe'll be playing some BINGO this month - purchase your BINGO packet at check-in for $20 (includes 5 cards and a dauber). We've got some great prizes you can win from some amazing local businesses! Additional raffle opportunities will be available throughout the luncheon\, including the chance to win our annual "Pie-in-the-Face" game where you get to put a pie in the face of some of our Chamber staff. \n\n \n\nActivities will be in the Student Center (Building 10) with parking available in Lot 7. We can't wait to see you there!
X-ALT-DESC;FMTTYPE=text/html:<div class="xdj266r x14z9mp xat24cr x1lziwak x1vvkbs" style="margin: 0px\; overflow-wrap: break-word\; font-family: &quot\;Segoe UI Historic&quot\;\, &quot\;Segoe UI&quot\;\, Helvetica\, Arial\, sans-serif\; color: rgb(8\, 8\, 9)\; font-size: 15px\;">Join us this month at Olympic College as we celebrate summer with our annual luncheon benefitting the Greater Kitsap Chamber Foundation and scholarship programs. Enjoy fun games and networking while we fundraise to support foundation programs\, along with delicious summer bites courtesy of McCloud&#39\;s Burger Wagon.<br />\n<br />\nWe&#39\;ll be playing some BINGO this month - purchase your BINGO packet at check-in for $20 (includes 5 cards and a dauber). We&#39\;ve got some great prizes you can win from some amazing local businesses! Additional raffle opportunities will be available throughout the luncheon\, including the chance to win our annual &quot\;Pie-in-the-Face&quot\; game where you get to put a pie in the face of some of our Chamber staff.&nbsp\;<br />\n&nbsp\;</div>\n\n<div class="x14z9mp xat24cr x1lziwak x1vvkbs xtlvy1s" style="margin: 0.5em 0px 0px\; overflow-wrap: break-word\; font-family: &quot\;Segoe UI Historic&quot\;\, &quot\;Segoe UI&quot\;\, Helvetica\, Arial\, sans-serif\; color: rgb(8\, 8\, 9)\; font-size: 15px\;">Activities will be in the Student Center (Building 10) with parking available in Lot 7. We can&#39\;t wait to see you there!</div>\n
LOCATION:
UID:e.2061.10891
SEQUENCE:3
DTSTAMP:20260425T134820Z
URL:https://business.greaterkitsapchamber.com/events/details/general-membership-luncheon-10891
END:VEVENT

END:VCALENDAR
