BEGIN:VCALENDAR
VERSION:2.0
PRODID:-//ChamberMaster//Event Calendar 2.0//EN
METHOD:PUBLISH
X-PUBLISHED-TTL:P3D
REFRESH-INTERVAL:P3D
CALSCALE:GREGORIAN
BEGIN:VEVENT
DTSTART:20231025T003000Z
DTEND:20231025T020000Z
X-MICROSOFT-CDO-ALLDAYEVENT:FALSE
SUMMARY:Grand Reopening & Ribbon Cutting
DESCRIPTION:Join UPS Store #2154 as they celebrate with a grand re-opening and a ribbon cutting ceremony with the Greater Kitsap Chamber.
X-ALT-DESC;FMTTYPE=text/html:Join UPS Store #2154 as they celebrate with a grand re-opening and a ribbon cutting ceremony with the Greater Kitsap Chamber.
LOCATION:2916 NW Bucklin Hill Rd Silverdale\, WA 98383
UID:e.2061.10556
SEQUENCE:3
DTSTAMP:20260419T152301Z
URL:https://business.greaterkitsapchamber.com/events/details/grand-reopening-ribbon-cutting-10556
END:VEVENT

END:VCALENDAR
