BEGIN:VCALENDAR
VERSION:2.0
PRODID:-//ChamberMaster//Event Calendar 2.0//EN
METHOD:PUBLISH
X-PUBLISHED-TTL:P3D
REFRESH-INTERVAL:P3D
CALSCALE:GREGORIAN
BEGIN:VEVENT
DTSTART:20231027T020000Z
DTEND:20231027T030000Z
X-MICROSOFT-CDO-ALLDAYEVENT:FALSE
SUMMARY:History UnCorked: Haunted Kitsap
DESCRIPTION:This Halloween season\, we're thrilled to present a spine-tingling edition of Uncorked: "Haunted Kitsap." The Kitsap History Museum holds centuries of history within its walls. But as we all know\, history often leaves behind more than just artifacts and stories. Sometimes\, it leaves behind echoes of the past paranormal echoes. We recently welcomed the Olympic Peninsula Paranormal Society (OPPS) to investigate these echoes. Join us for a captivating journey into the world of paranormal investigations as OPPS shares their fascinating methods\, cutting-edge technology\, and the compelling data they've gathered. Don't miss this unique opportunity to explore the unexplained with us.
X-ALT-DESC;FMTTYPE=text/html:This Halloween season\, we&#39\;re thrilled to present a spine-tingling edition of Uncorked: &quot\;Haunted Kitsap.&quot\; The Kitsap History Museum holds centuries of history within its walls. But as we all know\, history often leaves behind more than just artifacts and stories. Sometimes\, it leaves behind echoes of the past&mdash\;paranormal echoes. We recently welcomed the Olympic Peninsula Paranormal Society (OPPS) to investigate these echoes. Join us for a captivating journey into the world of paranormal investigations as OPPS shares their fascinating methods\, cutting-edge technology\, and the compelling data they&#39\;ve gathered. Don&#39\;t miss this unique opportunity to explore the unexplained with us.
LOCATION:Kitsap History Museum
UID:e.2061.10554
SEQUENCE:3
DTSTAMP:20260419T151931Z
URL:https://business.greaterkitsapchamber.com/events/details/history-uncorked-haunted-kitsap-10554
END:VEVENT

END:VCALENDAR
