BEGIN:VCALENDAR
VERSION:2.0
PRODID:-//ChamberMaster//Event Calendar 2.0//EN
METHOD:PUBLISH
X-PUBLISHED-TTL:P3D
REFRESH-INTERVAL:P3D
CALSCALE:GREGORIAN
BEGIN:VEVENT
DTSTART:20230428T020000Z
DTEND:20230428T030000Z
X-MICROSOFT-CDO-ALLDAYEVENT:FALSE
SUMMARY:History UnCorked: The Roxy
DESCRIPTION:For this special program of History UnCorked we're traveling next door to the Roxy Theatre and back in time to 1941 when the theatre first opened. Local journalist and historian\, Josh Farley\, will paint the scene of downtown Bremerton and 4th St right before the war. Join us for drinks\, socializing and the history of this art-deco building that once drew stars like Bing Crosby and Frank Sinatra in it's early days. This program is in partnership with The Roxy.
X-ALT-DESC;FMTTYPE=text/html:For this special program of History UnCorked we&#39\;re traveling next door to the Roxy Theatre and back in time to 1941 when the theatre first opened. Local journalist and historian\, Josh Farley\, will paint the scene of downtown Bremerton and 4th St right before the war. Join us for drinks\, socializing and the history of this art-deco building that once drew stars like Bing Crosby and Frank Sinatra in it&#39\;s early days. This program is in partnership with The Roxy.
LOCATION:The Roxy Theatre
UID:e.2061.10171
SEQUENCE:3
DTSTAMP:20260425T181256Z
URL:https://business.greaterkitsapchamber.com/events/details/history-uncorked-the-roxy-10171
END:VEVENT

END:VCALENDAR
