BEGIN:VCALENDAR
VERSION:2.0
PRODID:-//ChamberMaster//Event Calendar 2.0//EN
METHOD:PUBLISH
X-PUBLISHED-TTL:P3D
REFRESH-INTERVAL:P3D
CALSCALE:GREGORIAN
BEGIN:VEVENT
DTSTART:20251202T190000Z
DTEND:20251202T210000Z
X-MICROSOFT-CDO-ALLDAYEVENT:FALSE
SUMMARY:Hospitality Industry Workshop: Service that Sells
DESCRIPTION:Service that Sells: Elevate Your Hospitality Game\n\nJoin us for an engaging workshop designed especially for the hospitality industry! Learn how to build systems that empower your team to deliver consistent\, high-level service and what truly exceptional hospitality looks like in action. Hear from two successful restaurant owners who will share practical insights\, proven strategies\, and real-world examples that keep guests coming back for more.
X-ALT-DESC;FMTTYPE=text/html:<strong data-end="110" data-start="57">Service that Sells: Elevate Your Hospitality Game</strong><br data-end="113" data-start="110" />\nJoin us for an engaging workshop designed especially for the hospitality industry! Learn how to build systems that empower your team to deliver consistent\, high-level service&mdash\;and what truly exceptional hospitality looks like in action. Hear from two successful restaurant owners who will share practical insights\, proven strategies\, and real-world examples that keep guests coming back for more.
LOCATION:Evergreen Pizza Co. 1223 McKenzie Ave. Bremerton\, WA 98337
UID:e.2061.11072
SEQUENCE:3
DTSTAMP:20260422T121858Z
URL:https://business.greaterkitsapchamber.com/events/details/hospitality-industry-workshop-service-that-sells-11072
END:VEVENT

END:VCALENDAR
