BEGIN:VCALENDAR
VERSION:2.0
PRODID:-//ChamberMaster//Event Calendar 2.0//EN
METHOD:PUBLISH
X-PUBLISHED-TTL:P3D
REFRESH-INTERVAL:P3D
CALSCALE:GREGORIAN
BEGIN:VEVENT
DTSTART:20250621T180000Z
DTEND:20250621T210000Z
X-MICROSOFT-CDO-ALLDAYEVENT:FALSE
SUMMARY:Kitsap Fix-it Fair - Silverdale
DESCRIPTION:Kitsap County Solid Waste\, in partnership with Kitsap Regional Library\, is hosting a free Fix-it Fair at the Silverdale Kitsap Regional Library branch. Join us for this free community gathering in which people with repair skills share their time and skills to fix their neighbor's belongings. What to bring Kitsap residents are welcome to bring up to two items per event. Common items include clothing\, textiles\, small home appliances\, lamps\, vacuums\, bicycles (minor repairs)\, and small electronics. You must be able to carry your items in and out   no oversized items. Each event will vary on what skills are available to repair your items. We'll update our Kitsap Fix-it Fairs event webpage with event specific information. Volunteer fixers will do their best to attempt repairs but there are no guarantees for a repair. Some items are more difficult to repair\, can take longer than we have time for at the event\, or even break more during a repair attempt. What not to bring   Large appliances   Appliances with refrigerants   Items that are leaking fluids   Items having noxious or excessive odors   Microwaves   Items filled with oil or gas   Grimy\, dirty\, or hazardous items What to expect at a Fix-it Fair Before visiting our Fix-it Fairs\, please:   Clean your items   Bring any instructions or manuals that you might have   Purchase and bring your repair part. We'll have some small items available\; however\, if you require a special part\, we'll request you purchase it ahead of time.   Check event specific information! Each event may have different fixing skills available. We'll do our best to keep our events webpage updated with current information on skills available. At the event\, all participants must:   Check in to the event at the welcome table   Participants must check-in 30 minutes prior to the end time of the event. Participants that show up after the 30-minute cut-off will be turned away and asked to attend a future event.   Fill out a waiver holding Kitsap County and volunteers harmless for any potential damage to your property.   Be present during the repair   Checkout at our welcome table\, snap a picture of your fixed item\, and share! For more information visit kcowa.us/fixitfairs
X-ALT-DESC;FMTTYPE=text/html:Kitsap County Solid Waste\, in partnership with Kitsap Regional Library\, is hosting a free Fix-it Fair at the Silverdale Kitsap Regional Library branch. Join us for this free community gathering in which people with repair skills share their time and skills to fix their neighbor&rsquo\;s belongings. What to bring Kitsap residents are welcome to bring up to two items per event. Common items include clothing\, textiles\, small home appliances\, lamps\, vacuums\, bicycles (minor repairs)\, and small electronics. You must be able to carry your items in and out &ndash\; no oversized items. Each event will vary on what skills are available to repair your items. We&#39\;ll update our Kitsap Fix-it Fairs event webpage with event specific information. Volunteer fixers will do their best to attempt repairs but there are no guarantees for a repair. Some items are more difficult to repair\, can take longer than we have time for at the event\, or even break more during a repair attempt. What not to bring &bull\; Large appliances &bull\; Appliances with refrigerants &bull\; Items that are leaking fluids &bull\; Items having noxious or excessive odors &bull\; Microwaves &bull\; Items filled with oil or gas &bull\; Grimy\, dirty\, or hazardous items What to expect at a Fix-it Fair Before visiting our Fix-it Fairs\, please: &bull\; Clean your items &bull\; Bring any instructions or manuals that you might have &bull\; Purchase and bring your repair part. We&rsquo\;ll have some small items available\; however\, if you require a special part\, we&rsquo\;ll request you purchase it ahead of time. &bull\; Check event specific information! Each event may have different fixing skills available. We&rsquo\;ll do our best to keep our events webpage updated with current information on skills available. At the event\, all participants must: &bull\; Check in to the event at the welcome table &bull\; Participants must check-in 30 minutes prior to the end time of the event. Participants that show up after the 30-minute cut-off will be turned away and asked to attend a future event. &bull\; Fill out a waiver holding Kitsap County and volunteers harmless for any potential damage to your property. &bull\; Be present during the repair &bull\; Checkout at our welcome table\, snap a picture of your fixed item\, and share! For more information visit kcowa.us/fixitfairs
LOCATION:3650 NW Anderson Hill RD\, Ste. 101\, Silverdale\, WA 98383
UID:e.2061.10884
SEQUENCE:3
DTSTAMP:20260425T183708Z
URL:https://business.greaterkitsapchamber.com/events/details/kitsap-fix-it-fair-silverdale-10884
END:VEVENT

END:VCALENDAR
