BEGIN:VCALENDAR
VERSION:2.0
PRODID:-//ChamberMaster//Event Calendar 2.0//EN
METHOD:PUBLISH
X-PUBLISHED-TTL:P3D
REFRESH-INTERVAL:P3D
CALSCALE:GREGORIAN
BEGIN:VEVENT
DTSTART:20230430T000000Z
DTEND:20230430T033000Z
X-MICROSOFT-CDO-ALLDAYEVENT:FALSE
SUMMARY:KTAC's Spring Gala
DESCRIPTION:Join us for a night of fun and celebration! Kitsap Tennis & Athletic Center (KTAC) will be hosting our Spring Gala with a silent auction April 29\, 2023\, from 5-8:30pm to raise funds benefitting our Kitsap Kids Learn 2 Swim program. KTAC strives to support the community through outreach programs. In response to the almost 180 miles of shoreline in Kitsap County\, we launched one of our most impactful programs\, Kitsap Kids Learn 2 Swim. This growing program introduces first grade students in the Central Kitsap School District to water safety and basic swimming skills at no cost. In the most recent year\, KTAC reached over 400 students. We hope to reach out to even more area schools and students as funding permits.
X-ALT-DESC;FMTTYPE=text/html:Join us for a night of fun and celebration! Kitsap Tennis &amp\; Athletic Center (KTAC) will be hosting our Spring Gala with a silent auction April 29\, 2023\, from 5-8:30pm to raise funds benefitting our Kitsap Kids Learn 2 Swim program. KTAC strives to support the community through outreach programs. In response to the almost 180 miles of shoreline in Kitsap County\, we launched one of our most impactful programs\, Kitsap Kids Learn 2 Swim. This growing program introduces first grade students in the Central Kitsap School District to water safety and basic swimming skills at no cost. In the most recent year\, KTAC reached over 400 students. We hope to reach out to even more area schools and students as funding permits.
LOCATION:Kitsap Tennis & Athletic Center 1909 John Carlson Rd NE Bremerton\, WA 98311
UID:e.2061.10165
SEQUENCE:3
DTSTAMP:20260425T211759Z
URL:https://business.greaterkitsapchamber.com/events/details/ktac-s-spring-gala-10165
END:VEVENT

END:VCALENDAR
