BEGIN:VCALENDAR
VERSION:2.0
PRODID:-//ChamberMaster//Event Calendar 2.0//EN
METHOD:PUBLISH
X-PUBLISHED-TTL:P3D
REFRESH-INTERVAL:P3D
CALSCALE:GREGORIAN
BEGIN:VEVENT
DTSTART:20230902T170000Z
DTEND:20230905T010000Z
X-MICROSOFT-CDO-ALLDAYEVENT:FALSE
SUMMARY:Labor Day Weekend Pop Up Ferryboat Cruise In to Silverdale
DESCRIPTION:Enjoy a ferryboat cruise to the Bremerton Blackberry Festival all weekend. Kettlefish will be serving your favorite cup o' chowder 11am to 2pm all three days. Pop by the seafood shop for ferryboat schedules or Lunch or Dinner. Fish and Chips\, Cioppino\, Crab Mac & Cheese. Fried Oysters.
X-ALT-DESC;FMTTYPE=text/html:Enjoy a ferryboat cruise to the Bremerton Blackberry Festival all weekend. Kettlefish will be serving your favorite cup o&#39\; chowder 11am to 2pm all three days. Pop by the seafood shop for ferryboat schedules or Lunch or Dinner. Fish and Chips\, Cioppino\, Crab Mac &amp\; Cheese. Fried Oysters.
LOCATION:3337 NW Byron St Silverdale Wa 98383
UID:e.2061.10538
SEQUENCE:3
DTSTAMP:20260419T145114Z
URL:https://business.greaterkitsapchamber.com/events/details/labor-day-weekend-pop-up-ferryboat-cruise-in-to-silverdale-10538
END:VEVENT

END:VCALENDAR
