BEGIN:VCALENDAR
VERSION:2.0
PRODID:-//ChamberMaster//Event Calendar 2.0//EN
METHOD:PUBLISH
X-PUBLISHED-TTL:P3D
REFRESH-INTERVAL:P3D
CALSCALE:GREGORIAN
BEGIN:VEVENT
DTSTART:20250205T130000Z
DTEND:20250206T050000Z
X-MICROSOFT-CDO-ALLDAYEVENT:FALSE
SUMMARY:Legislative Day & Hill Climb
DESCRIPTION:Join us for our annual Legislative Day & Hill Climb with AWB. \n\n\n\nTentative Agenda:\n\n6:00 am departure from Bremerton\n\n8:00 am - 8:45 am - Welcome & Hill Climb Kick-Off\n\n9:30 am - 11:00 am - Meetings with legislators\n\n11:00 am - 12:00 pm - Break and travel time to Saint Martin's University\n\n12:00 pm - 1:30 pm - Keynote Address at Saint Martin's University\n\n2:00 pm - 5:00 pm - Meetings with legislators\n\n5:00 pm - 7:30 pm - Legislative Reception
X-ALT-DESC;FMTTYPE=text/html:<p style="margin: 20px 0px\; padding: 0px\; box-sizing: border-box\; color: rgb(0\, 0\, 0)\; font-family: skolar-sans-latin\, arial\, sans-serif\; font-size: 18px\; background-color: rgb(245\, 245\, 245)\;">Join us for our annual Legislative Day &amp\; Hill Climb with AWB.&nbsp\;<br />\n<br />\nTentative Agenda:<br />\n6:00 am departure from Bremerton<br />\n8:00 am - 8:45 am - Welcome &amp\; Hill Climb Kick-Off<br />\n9:30 am - 11:00 am - Meetings with legislators<br />\n11:00 am - 12:00 pm - Break and travel time to Saint Martin&#39\;s University<br />\n12:00 pm - 1:30 pm - Keynote Address at Saint Martin&#39\;s University<br />\n2:00 pm - 5:00 pm - Meetings with legislators<br />\n5:00 pm - 7:30 pm - Legislative Reception<br />\n&nbsp\;</p>\n
LOCATION:Washington State Capitol
UID:e.2061.10689
SEQUENCE:3
DTSTAMP:20260425T215946Z
URL:https://business.greaterkitsapchamber.com/events/details/legislative-day-hill-climb-10689
END:VEVENT

END:VCALENDAR
