BEGIN:VCALENDAR
VERSION:2.0
PRODID:-//ChamberMaster//Event Calendar 2.0//EN
METHOD:PUBLISH
X-PUBLISHED-TTL:P3D
REFRESH-INTERVAL:P3D
CALSCALE:GREGORIAN
BEGIN:VEVENT
DTSTART:20231025T180000Z
DTEND:20231025T200000Z
X-MICROSOFT-CDO-ALLDAYEVENT:FALSE
SUMMARY:Membership Luncheon
DESCRIPTION:We're excited to be focusing on all things marketing this month\, as we are joined by a panel of experts who will share their experience and advice as we move into Small Business & Shop Local season (along with holiday shopping season)! Brett Clark\, Jimmi Cook and Maureen Jann will field your questions as we engage in this conversation covering our marketing must dos.
X-ALT-DESC;FMTTYPE=text/html:<span style="font-family: Raleway\, sans-serif\; font-size: 18px\; font-style: italic\; font-weight: 700\; text-align: center\; white-space-collapse: preserve\; background-color: rgb(255\, 255\, 255)\;">We&#39\;re excited to be focusing on all things marketing this month\, as we are joined by a panel of experts who will share their experience and advice as we move into Small Business &amp\; Shop Local season (along with holiday shopping season)! Brett Clark\, Jimmi Cook and Maureen Jann will field your questions as we engage in this conversation covering our marketing must dos.</span>
LOCATION:Kitsap Conference Center 100 Washington Ave Bremerton\, WA 98337
UID:e.2061.10555
SEQUENCE:3
DTSTAMP:20260419T151920Z
URL:https://business.greaterkitsapchamber.com/events/details/membership-luncheon-10555
END:VEVENT

END:VCALENDAR
