BEGIN:VCALENDAR
VERSION:2.0
PRODID:-//ChamberMaster//Event Calendar 2.0//EN
METHOD:PUBLISH
X-PUBLISHED-TTL:P3D
REFRESH-INTERVAL:P3D
CALSCALE:GREGORIAN
BEGIN:VEVENT
DTSTART:20250720T180000Z
DTEND:20250720T190000Z
X-MICROSOFT-CDO-ALLDAYEVENT:FALSE
SUMMARY:Mimosas & Marys – Pride Brunch
DESCRIPTION:Kitsap Pride is teaming up with the fabulous Hannah's Playhouse to bring the ultimate send-off to Pride Weekend! Join us for a brunch bash packed with fierce performances\, fabulous vibes\, and unapologetic joy. Featuring the dazzling talents of: Hannah MiaJoint   Lunar Eclipse   Sativa Jones St. James   Lady GuGu. With beats (and dad jokes) by DJ Vince Urban\n\nThe Manette Saloon will be serving up their amazing brunch menu come hungry and ready to party!\n\nTickets are just $15 and $10 goes directly to support Kitsap Pride.\n\nCome slay the last day of Pride with good food\, great music\, and queens that turn it out!
X-ALT-DESC;FMTTYPE=text/html:<p style="box-sizing: inherit\; margin: 0px 0px 1.5em\; padding: 0px\; font-family: &quot\;Libre Franklin&quot\;\, &quot\;Helvetica Neue&quot\;\, helvetica\, arial\, sans-serif\; font-size: 16px\;">Kitsap Pride is&nbsp\;teaming up with the fabulous Hannah&rsquo\;s Playhouse to bring the ultimate send-off to Pride Weekend! Join us for a brunch bash packed with fierce performances\, fabulous vibes\, and unapologetic joy. Featuring the dazzling talents of: <strong>Hannah MiaJoint</strong> &bull\; <strong>Lunar Eclipse </strong>&bull\; <strong>Sativa Jones</strong>&nbsp\;<strong>St. James</strong> &bull\; <strong>Lady GuGu</strong>. With beats (and dad jokes) by <strong>DJ Vince Urban</strong></p>\n\n<p style="box-sizing: inherit\; margin: 0px 0px 1.5em\; padding: 0px\; font-family: &quot\;Libre Franklin&quot\;\, &quot\;Helvetica Neue&quot\;\, helvetica\, arial\, sans-serif\; font-size: 16px\;">The Manette Saloon will be serving up their amazing brunch menu&mdash\;come hungry and ready to party!</p>\n\n<p style="box-sizing: inherit\; margin: 0px 0px 1.5em\; padding: 0px\; font-family: &quot\;Libre Franklin&quot\;\, &quot\;Helvetica Neue&quot\;\, helvetica\, arial\, sans-serif\; font-size: 16px\;"><a href="https://www.zeffy.com/ticketing/pride-brunch--2025" style="box-sizing: inherit\; background-color: transparent\; color: rgb(34\, 34\, 34)\; text-decoration-line: none\; box-shadow: rgb(15\, 15\, 15) 0px -1px 0px inset\; transition: color 80ms ease-in\, box-shadow 130ms ease-in-out\, -webkit-box-shadow 130ms ease-in-out\;">Tickets</a>&nbsp\;are just $15 and $10 goes directly to support Kitsap Pride.</p>\n\n<p style="box-sizing: inherit\; margin: 0px 0px 1.5em\; padding: 0px\; font-family: &quot\;Libre Franklin&quot\;\, &quot\;Helvetica Neue&quot\;\, helvetica\, arial\, sans-serif\; font-size: 16px\;">Come slay the last day of Pride with good food\, great music\, and queens that turn it out!</p>\n
LOCATION:MANETTE SALOON 2113 E 11th St Bremerton\, WA 98310\, USA
UID:e.2061.10893
SEQUENCE:3
DTSTAMP:20260425T135042Z
URL:https://business.greaterkitsapchamber.com/events/details/mimosas-marys-pride-brunch-10893
END:VEVENT

END:VCALENDAR
