BEGIN:VCALENDAR
VERSION:2.0
PRODID:-//ChamberMaster//Event Calendar 2.0//EN
METHOD:PUBLISH
X-PUBLISHED-TTL:P3D
REFRESH-INTERVAL:P3D
CALSCALE:GREGORIAN
BEGIN:VEVENT
DTSTART:20231021T153000Z
DTEND:20231021T190000Z
X-MICROSOFT-CDO-ALLDAYEVENT:FALSE
SUMMARY:Old Town Silverdale Daffodil Planting Day
DESCRIPTION:Join in with your community and neighbors to plant dozens of bright yellow daffodils to be enjoyed along Bay Shore Drive next spring. Participate in brightening up marina and waterfront playground and along the beach trail digging\, planting and covering bright yellow daffodils you can look forward to blooming in the spring 2024.
X-ALT-DESC;FMTTYPE=text/html:Join in with your community and neighbors to plant dozens of bright yellow daffodils to be enjoyed along Bay Shore Drive next spring. Participate in brightening up marina and waterfront playground and along the beach trail digging\, planting and covering bright yellow daffodils you can look forward to blooming in the spring 2024.
LOCATION:9216 Bay Shore Dr NW Silverdale Wa 98383 Main Street Central
UID:e.2061.10546
SEQUENCE:3
DTSTAMP:20260419T152142Z
URL:https://business.greaterkitsapchamber.com/events/details/old-town-silverdale-daffodil-planting-day-10546
END:VEVENT

END:VCALENDAR
