BEGIN:VCALENDAR
VERSION:2.0
PRODID:-//ChamberMaster//Event Calendar 2.0//EN
METHOD:PUBLISH
X-PUBLISHED-TTL:P3D
REFRESH-INTERVAL:P3D
CALSCALE:GREGORIAN
BEGIN:VEVENT
DTSTART;VALUE=DATE:20250607
DTEND;VALUE=DATE:20250609
TRANSP:TRANSPARENT
X-MICROSOFT-CDO-ALLDAYEVENT:TRUE
SUMMARY:Olympic Peninsula Antique Tractor & Engine Association Tractor Show
DESCRIPTION:The show features tractor\, lawnmower\, truck\, & ATV pulls\, swap meet\, farm demonstrations\, children's activities\, and food vendors.
X-ALT-DESC;FMTTYPE=text/html:The show features tractor\, lawnmower\, truck\, &amp\; ATV pulls\, swap meet\, farm demonstrations\, children&#39\;s activities\, and food vendors.
LOCATION:Thunderbird Arena at Kitsap County Fairgrounds\, 1234 Fairgrounds Rd NW\, Bremerton\, WA 98311
UID:e.2061.10872
SEQUENCE:3
DTSTAMP:20260425T182436Z
URL:https://business.greaterkitsapchamber.com/events/details/olympic-peninsula-antique-tractor-engine-association-tractor-show-10872
END:VEVENT

END:VCALENDAR
