BEGIN:VCALENDAR
VERSION:2.0
PRODID:-//ChamberMaster//Event Calendar 2.0//EN
METHOD:PUBLISH
X-PUBLISHED-TTL:P3D
REFRESH-INTERVAL:P3D
CALSCALE:GREGORIAN
BEGIN:VEVENT
DTSTART:20231012T190000Z
DTEND:20231012T210000Z
X-MICROSOFT-CDO-ALLDAYEVENT:FALSE
SUMMARY:Opening Celebration
DESCRIPTION:Please join Sound West Group at the opening of their newly opened Rivulet Apartments in Silverdale. The Greater Kitsap Chamber will be on hand for a ribbon cutting\, there will also be a champagne toast and tours of the property.
X-ALT-DESC;FMTTYPE=text/html:Please join Sound West Group at the opening of their newly opened Rivulet Apartments in Silverdale. The Greater Kitsap Chamber will be on hand for a ribbon cutting\, there will also be a champagne toast and tours of the property.
LOCATION:9950 Blaine Avenue NW Silverdale\, WA 98383
UID:e.2061.10558
SEQUENCE:3
DTSTAMP:20260419T151750Z
URL:https://business.greaterkitsapchamber.com/events/details/opening-celebration-10558
END:VEVENT

END:VCALENDAR
