BEGIN:VCALENDAR
VERSION:2.0
PRODID:-//ChamberMaster//Event Calendar 2.0//EN
METHOD:PUBLISH
X-PUBLISHED-TTL:P3D
REFRESH-INTERVAL:P3D
CALSCALE:GREGORIAN
BEGIN:VEVENT
DTSTART:20240224T010000Z
DTEND:20240224T200000Z
X-MICROSOFT-CDO-ALLDAYEVENT:FALSE
SUMMARY:Poulsbo Blues and Jazz Festival
DESCRIPTION:A music Festival in Downtown Poulsbo. Info at www.poulsbobluesandjazzfestival.com
X-ALT-DESC;FMTTYPE=text/html:A music Festival in Downtown Poulsbo. Info at www.poulsbobluesandjazzfestival.com
LOCATION:5 venues in Poulsbo
UID:e.2061.10559
SEQUENCE:3
DTSTAMP:20260419T190409Z
URL:https://business.greaterkitsapchamber.com/events/details/poulsbo-blues-and-jazz-festival-10559
END:VEVENT

END:VCALENDAR
