BEGIN:VCALENDAR
VERSION:2.0
PRODID:-//ChamberMaster//Event Calendar 2.0//EN
METHOD:PUBLISH
X-PUBLISHED-TTL:P3D
REFRESH-INTERVAL:P3D
CALSCALE:GREGORIAN
BEGIN:VEVENT
DTSTART;VALUE=DATE:20231013
DTEND;VALUE=DATE:20231014
TRANSP:TRANSPARENT
X-MICROSOFT-CDO-ALLDAYEVENT:TRUE
SUMMARY:Poulsbo Film Festival
DESCRIPTION:The mission of the Poulsbo Film Festival is to bring independent film and filmmakers to the city of Poulsbo\, Washington for a weekend of celebrating diverse stories produced from all across the United States.\n\n \n\nThis three day festival will include parties\, filmmaker panels\, networking\, small town vibes\, and beautiful scenery. We are excited for everyone to get together for the love of storytelling!
X-ALT-DESC;FMTTYPE=text/html:<p class="font_8 wixui-rich-text__text" style="background: transparent\; border: 0px\; margin: 0px\; outline: 0px\; padding: 0px\; vertical-align: baseline\; pointer-events: auto\; font-size: 18px\; color: rgb(var(--color_30))\;">The mission of the Poulsbo Film Festival is to bring independent film and filmmakers to the city of Poulsbo\, Washington for a weekend of celebrating diverse stories produced from all across the United States.</p>\n\n<p class="font_8 wixui-rich-text__text" style="background: transparent\; border: 0px\; margin: 0px\; outline: 0px\; padding: 0px\; vertical-align: baseline\; pointer-events: auto\; font-size: 18px\; color: rgb(var(--color_30))\;"><span class="wixGuard wixui-rich-text__text" style="background: transparent\; border: 0px\; margin: 0px\; outline: 0px\; padding: 0px\; vertical-align: baseline\;">&#8203\;</span></p>\n\n<p class="font_8 wixui-rich-text__text" style="background: transparent\; border: 0px\; margin: 0px\; outline: 0px\; padding: 0px\; vertical-align: baseline\; pointer-events: auto\; font-size: 18px\; color: rgb(var(--color_30))\;">This three day festival will include parties\, filmmaker panels\, networking\, small town vibes\, and beautiful scenery. We are excited for everyone to get together for the love of storytelling!&nbsp\;</p>\n
LOCATION:
UID:e.2061.10499
SEQUENCE:3
DTSTAMP:20260419T152602Z
URL:https://business.greaterkitsapchamber.com/events/details/poulsbo-film-festival-10499
END:VEVENT

END:VCALENDAR
