BEGIN:VCALENDAR
VERSION:2.0
PRODID:-//ChamberMaster//Event Calendar 2.0//EN
METHOD:PUBLISH
X-PUBLISHED-TTL:P3D
REFRESH-INTERVAL:P3D
CALSCALE:GREGORIAN
BEGIN:VEVENT
DTSTART:20250606T230000Z
DTEND:20250607T020000Z
X-MICROSOFT-CDO-ALLDAYEVENT:FALSE
SUMMARY:Ribbon Cutting and Grand Opening for Integrity Roofing & Construction’s
DESCRIPTION:Join us as we celebrate the official Ribbon Cutting and Grand Opening of Integrity Roofing & Construction's new Poulsbo location!\n\n\n\nJoin us to meet the team\, tour the beautiful new space\, and help us welcome this trusted local business to the neighborhood. There will be light refreshments\, networking\, and a ribbon-cutting ceremony with local leaders and community partners.\n\nThe celebration will feature live music by Skinny Blues\, tasty small bites\, adult beverages\, a lively photo booth\, and exciting customer appreciation giveaways   all in celebration of Integrity's ongoing commitment to craftsmanship\, customer service\, and community connection.\n\n\n\n"We're proud to be moving into our new location in Poulsbo and look forward to celebrating with our friends\, neighbors\, and community partners\," said Tanner Tennyson\, Owner. "This grand opening is not just about a new location   it's about thanking the customers who have helped us grow and committing ourselves to serving Kitsap County with integrity and care."\n\n\n\nLocal leaders\, business owners\, and community members are all invited to attend the ribbon-cutting ceremony\, tour the new facility\, and raise a glass to Poulsbo's newest addition in the home improvement industry.\n\n\n\nLet's come together to support a business that's been building trust and excellence in our community. We look forward to celebrating with you!
X-ALT-DESC;FMTTYPE=text/html:<p data-end="331" data-start="192"><span style="font-size:14px\;"><span style="font-family:arial\;">Join us as we celebrate the official <strong data-end="265" data-start="229">Ribbon Cutting and Grand Opening</strong> of <strong data-end="307" data-start="269">Integrity Roofing &amp\; Construction&rsquo\;s</strong> new Poulsbo location!<br />\n<br />\nJoin us to meet the team\, tour the beautiful new space\, and help us welcome this trusted local business to the neighborhood. There will be light refreshments\, networking\, and a ribbon-cutting ceremony with local leaders and community partners.<br />\nThe celebration will feature <strong data-end="691" data-start="661">live music by Skinny Blues</strong>\, <strong data-end="714" data-start="693">tasty small bites</strong>\, <strong data-end="735" data-start="716">adult beverages</strong>\, <strong data-end="761" data-start="737">a lively photo booth</strong>\, and exciting <strong data-end="811" data-start="776">customer</strong><strong> appreciation giveaways</strong> &mdash\; all in celebration of Integrity&rsquo\;s ongoing commitment to craftsmanship\, customer service\, and community connection.<br />\n<br />\n&ldquo\;We&rsquo\;re proud to be moving into our new location in Poulsbo and look forward to celebrating with our friends\, neighbors\, and community partners\,&rdquo\; said <strong data-end="1089" data-start="1063">Tanner Tennyson\, Owner</strong>. &ldquo\;This grand opening is not just about a new location &mdash\; it&rsquo\;s about thanking the customers who have helped us grow and committing ourselves to serving Kitsap County with integrity and care.&rdquo\;<br />\n<br />\nLocal leaders\, business owners\, and community members are all invited to attend the ribbon-cutting ceremony\, tour the new facility\, and raise a glass to Poulsbo&rsquo\;s newest addition in the home improvement industry.<br />\n<br />\nLet&rsquo\;s come together to support a business that&rsquo\;s been building trust and excellence in our community. We look forward to celebrating with you!</span></span><br />\n&nbsp\;</p>\n
LOCATION:Integrity Roofing & Construction
UID:e.2061.10887
SEQUENCE:3
DTSTAMP:20260425T171233Z
URL:https://business.greaterkitsapchamber.com/events/details/ribbon-cutting-and-grand-opening-for-integrity-roofing-construction-s-10887
END:VEVENT

END:VCALENDAR
