BEGIN:VCALENDAR
VERSION:2.0
PRODID:-//ChamberMaster//Event Calendar 2.0//EN
METHOD:PUBLISH
X-PUBLISHED-TTL:P3D
REFRESH-INTERVAL:P3D
CALSCALE:GREGORIAN
BEGIN:VEVENT
DTSTART:20230918T010000Z
DTEND:20230918T030000Z
X-MICROSOFT-CDO-ALLDAYEVENT:FALSE
SUMMARY:Roxy Theatre Presents - Ferris Bueller's Day Off
DESCRIPTION:Ferris Bueller (Matthew Broderick) has an uncanny skill at cutting classes and getting away with it. Intending to make one last duck-out before graduation\, Ferris calls in sick\, "borrows" a Ferrari\, and embarks on a one-day journey through the streets of Chicago. On Ferris' trail is high school principal Rooney (Jeffrey Jones)\, determined to catch him in the act.
X-ALT-DESC;FMTTYPE=text/html:<span style="color: rgb(51\, 51\, 51)\; font-family: &quot\;Open Sans&quot\;\; font-size: 14px\; background-color: rgb(255\, 255\, 255)\;">Ferris Bueller (Matthew Broderick) has an uncanny skill at cutting classes and getting away with it. Intending to make one last duck-out before graduation\, Ferris calls in sick\, &quot\;borrows&quot\; a Ferrari\, and embarks on a one-day journey through the streets of Chicago. On Ferris&#39\; trail is high school principal Rooney (Jeffrey Jones)\, determined to catch him in the act.</span>
LOCATION:Roxy Theatre 270 4th Street Bremerton\, WA 98337
UID:e.2061.10512
SEQUENCE:3
DTSTAMP:20260419T130158Z
URL:https://business.greaterkitsapchamber.com/events/details/roxy-theatre-presents-ferris-bueller-s-day-off-10512
END:VEVENT

END:VCALENDAR
