BEGIN:VCALENDAR
VERSION:2.0
PRODID:-//ChamberMaster//Event Calendar 2.0//EN
METHOD:PUBLISH
X-PUBLISHED-TTL:P3D
REFRESH-INTERVAL:P3D
CALSCALE:GREGORIAN
BEGIN:VEVENT
DTSTART:20231007T190000Z
DTEND:20231008T210000Z
X-MICROSOFT-CDO-ALLDAYEVENT:FALSE
SUMMARY:Roxy Theatre Presents - Frankenstein
DESCRIPTION:Directed by Academy Award -winner Danny Boyle (Trainspotting\, Slumdog Millionaire)\, Frankenstein features Benedict Cumberbatch (Hamlet\, BBC's Sherlock) and Jonny Lee Miller (Elementary\, Trainspotting) alternating between the roles of Victor Frankenstein and his creation.\n\nChildlike in his innocence but grotesque in form\, Frankenstein's bewildered creature is cast out into a hostile universe by his horror-struck maker. Meeting with cruelty wherever he goes\, the increasingly desperate and vengeful Creature determines to track down his creator and strike a terrifying deal.\n\nScientific responsibility\, parental neglect\, cognitive development and the nature of good and evil\, are embedded within this thrilling and deeply disturbing classic tale.\n\nCaptured live on stage in 2011\, this thrilling\, sold-out production became an international sensation\, experienced by almost half a million people in cinemas around the world.
X-ALT-DESC;FMTTYPE=text/html:<p style="margin-top: 0px\; color: rgb(51\, 51\, 51)\; font-family: &quot\;Open Sans&quot\;\; font-size: 14px\; background-color: rgb(255\, 255\, 255)\;">Directed by Academy Award&reg\;-winner Danny Boyle (Trainspotting\, Slumdog Millionaire)\, Frankenstein features Benedict Cumberbatch (Hamlet\, BBC&rsquo\;s Sherlock) and Jonny Lee Miller (Elementary\, Trainspotting) alternating between the roles of Victor Frankenstein and his creation.</p>\n\n<p style="margin-top: 0px\; color: rgb(51\, 51\, 51)\; font-family: &quot\;Open Sans&quot\;\; font-size: 14px\; background-color: rgb(255\, 255\, 255)\;">Childlike in his innocence but grotesque in form\, Frankenstein&rsquo\;s bewildered creature is cast out into a hostile universe by his horror-struck maker. Meeting with cruelty wherever he goes\, the increasingly desperate and vengeful Creature determines to track down his creator and strike a terrifying deal.</p>\n\n<p style="margin-top: 0px\; color: rgb(51\, 51\, 51)\; font-family: &quot\;Open Sans&quot\;\; font-size: 14px\; background-color: rgb(255\, 255\, 255)\;">Scientific responsibility\, parental neglect\, cognitive development and the nature of good and evil\, are embedded within this thrilling and deeply disturbing classic tale.</p>\n\n<p style="margin-top: 0px\; margin-bottom: 0px\; color: rgb(51\, 51\, 51)\; font-family: &quot\;Open Sans&quot\;\; font-size: 14px\; background-color: rgb(255\, 255\, 255)\;">Captured live on stage in 2011\, this thrilling\, sold-out production became an international sensation\, experienced by almost half a million people in cinemas around the world.</p>\n
LOCATION:Roxy Theater 270 4th Street Bremerton\, WA 98337
UID:e.2061.10522
SEQUENCE:3
DTSTAMP:20260419T151919Z
URL:https://business.greaterkitsapchamber.com/events/details/roxy-theatre-presents-frankenstein-10522
END:VEVENT

END:VCALENDAR
