BEGIN:VCALENDAR
VERSION:2.0
PRODID:-//ChamberMaster//Event Calendar 2.0//EN
METHOD:PUBLISH
X-PUBLISHED-TTL:P3D
REFRESH-INTERVAL:P3D
CALSCALE:GREGORIAN
BEGIN:VEVENT
DTSTART:20231111T200000Z
DTEND:20231112T000000Z
X-MICROSOFT-CDO-ALLDAYEVENT:FALSE
SUMMARY:Second Saturday Kids Day: Fall Leaves
DESCRIPTION:As the seasons change\, join us to create art from the falling leaves. We'll explore the textures of plants through colorful crayon rubbings. We'll see what animals we can make from the shapes. Join us at the Kitsap History Museum every second Saturday of the month for kids activities suited for grade school age. Drop in anytime we're open noon-4pm.
X-ALT-DESC;FMTTYPE=text/html:As the seasons change\, join us to create art from the falling leaves. We&#39\;ll explore the textures of plants through colorful crayon rubbings. We&#39\;ll see what animals we can make from the shapes. Join us at the Kitsap History Museum every second Saturday of the month for kids activities suited for grade school age. Drop in anytime we&rsquo\;re open noon-4pm.
LOCATION:Kitsap History Museum 280 4th St Bremerton\, WA 98337
UID:e.2061.10562
SEQUENCE:3
DTSTAMP:20260419T144757Z
URL:https://business.greaterkitsapchamber.com/events/details/second-saturday-kids-day-fall-leaves-10562
END:VEVENT

END:VCALENDAR
