BEGIN:VCALENDAR
VERSION:2.0
PRODID:-//ChamberMaster//Event Calendar 2.0//EN
METHOD:PUBLISH
X-PUBLISHED-TTL:P3D
REFRESH-INTERVAL:P3D
CALSCALE:GREGORIAN
BEGIN:VEVENT
DTSTART:20230406T002500Z
DTEND:20230406T030500Z
X-MICROSOFT-CDO-ALLDAYEVENT:FALSE
SUMMARY:Silverdale Greendrinks
DESCRIPTION:Welcome to Silverdale Greendrinks where it's all about\n\n"Bringing It Together\, Keeping It Local"
X-ALT-DESC;FMTTYPE=text/html:<span style="text-align: center\; background-color: rgb(255\, 255\, 255)\;"><font color="#050505" face="Segoe UI Historic\, Segoe UI\, Helvetica\, Arial\, sans-serif"><span style="font-size: 15px\;">Welcome to Silverdale Greendrinks&nbsp\;where it&#39\;s all about</span></font></span><br style="color: rgb(5\, 5\, 5)\; font-family: &quot\;Segoe UI Historic&quot\;\, &quot\;Segoe UI&quot\;\, Helvetica\, Arial\, sans-serif\; font-size: 15px\; text-align: center\; background-color: rgb(255\, 255\, 255)\;" />\n<span style="color: rgb(5\, 5\, 5)\; font-family: &quot\;Segoe UI Historic&quot\;\, &quot\;Segoe UI&quot\;\, Helvetica\, Arial\, sans-serif\; font-size: 15px\; text-align: center\; background-color: rgb(255\, 255\, 255)\;">&quot\;Bringing It Together\, Keeping It Local&quot\;</span>
LOCATION:Moment Brewing 10876 Myhre Place NW Suite #112 Silverdale\, WA 98383
UID:e.2061.10173
SEQUENCE:3
DTSTAMP:20260426T041958Z
URL:https://business.greaterkitsapchamber.com/events/details/silverdale-greendrinks-10173
END:VEVENT

END:VCALENDAR
