BEGIN:VCALENDAR
VERSION:2.0
PRODID:-//ChamberMaster//Event Calendar 2.0//EN
METHOD:PUBLISH
X-PUBLISHED-TTL:P3D
REFRESH-INTERVAL:P3D
CALSCALE:GREGORIAN
BEGIN:VEVENT
DTSTART:20250504T010000Z
DTEND:20250504T030000Z
X-MICROSOFT-CDO-ALLDAYEVENT:FALSE
SUMMARY:Spirits of Pride
DESCRIPTION:Join us for an evening of celebration and community at our Spirits of Pride fundraiser\, benefitting the 2025 Bainbridge Pride Festival! We're gathering to honor love\, diversity\, and inclusion\, showcasing the strength and resilience of the LGBTQIA+ community and our supportive allies. Expect an unforgettable night filled with music\, light refreshments\, a Pride-themed drink\, and heartwarming camaraderie.
X-ALT-DESC;FMTTYPE=text/html:Join us for an evening of celebration and community at our Spirits of Pride fundraiser\, benefitting the 2025 Bainbridge Pride Festival! We&#39\;re gathering to honor love\, diversity\, and inclusion\, showcasing the strength and resilience of the LGBTQIA+ community and our supportive allies. Expect an unforgettable night filled with music\, light refreshments\, a Pride-themed drink\, and heartwarming camaraderie.
LOCATION:Cups & Espresso Bainbridge Island 123 Bjune Dr SE #105\, Bainbridge Island\, WA 98110
UID:e.2061.10870
SEQUENCE:3
DTSTAMP:20260425T212253Z
URL:https://business.greaterkitsapchamber.com/events/details/spirits-of-pride-10870
END:VEVENT

END:VCALENDAR
