BEGIN:VCALENDAR
VERSION:2.0
PRODID:-//ChamberMaster//Event Calendar 2.0//EN
METHOD:PUBLISH
X-PUBLISHED-TTL:P3D
REFRESH-INTERVAL:P3D
CALSCALE:GREGORIAN
BEGIN:VEVENT
DTSTART:20231021T010000Z
DTEND:20231021T040000Z
X-MICROSOFT-CDO-ALLDAYEVENT:FALSE
SUMMARY:Trick or Tree - Glow-In-The-Dark Candy Egg Hunt
DESCRIPTION:Olmsted Tree Farms presents Trick or Tree - a unique and family friendly glow-in-the-dark candy egg hunt\, You'll scour Olmsted Tree Farms' Christmas tree field where thousands of hidden candy and toy-filled eggs are just waiting to be found. The best part? You'll do it in the dark! You'll hunt for both glowing and non-glowing eggs! After filling your bucket you can wander through their Spooky Woods. But only if you dare! Tickets are limited and must be pre-purchased.
X-ALT-DESC;FMTTYPE=text/html:Olmsted Tree Farms presents Trick or Tree - a unique and family friendly glow-in-the-dark candy egg hunt\, You&#39\;ll scour Olmsted Tree Farms&#39\; Christmas tree field where thousands of hidden candy and toy-filled eggs are just waiting to be found. The best part? You&#39\;ll do it in the dark! You&#39\;ll hunt for both glowing and non-glowing eggs! After filling your bucket you can wander through their Spooky Woods. But only if you dare! Tickets are limited and must be pre-purchased.
LOCATION:Olmsted Tree Farms 17526 Clear Creek RD NW Poulsbo\, WA 98370
UID:e.2061.10544
SEQUENCE:3
DTSTAMP:20260419T152052Z
URL:https://business.greaterkitsapchamber.com/events/details/trick-or-tree-glow-in-the-dark-candy-egg-hunt-10544
END:VEVENT

END:VCALENDAR
