BEGIN:VCALENDAR
VERSION:2.0
PRODID:-//ChamberMaster//Event Calendar 2.0//EN
METHOD:PUBLISH
X-PUBLISHED-TTL:P3D
REFRESH-INTERVAL:P3D
CALSCALE:GREGORIAN
BEGIN:VEVENT
DTSTART:20250606T230000Z
DTEND:20250607T010000Z
X-MICROSOFT-CDO-ALLDAYEVENT:FALSE
SUMMARY:Vibe Coworks 1st Friday Happy Hour
DESCRIPTION:Work hard\, play hard\, meet new people. On the 1st Friday of every month\, Vibe Coworks opens free to everyone. It's the perfect way to finish the week strong\, experience the power of coworking and get some serious work done in the company of great people. At 4pm\, we close up shop and head next door to Crabtree Kitchen + Bar for a monthly no-host happy hour\, where we get to relax\, meet new friends and learn more about the exciting things that everyone is working on. Bring a friend! Everyone is welcome\, whether you've been with us at Vibe Coworks for Free 1st Fridays\, or just want to come join in the fun. *Must be 21+
X-ALT-DESC;FMTTYPE=text/html:Work hard\, play hard\, meet new people. On the 1st Friday of every month\, Vibe Coworks opens free to everyone. It&#39\;s the perfect way to finish the week strong\, experience the power of coworking and get some serious work done in the company of great people. At 4pm\, we close up shop and head next door to Crabtree Kitchen + Bar for a monthly no-host happy hour\, where we get to relax\, meet new friends and learn more about the exciting things that everyone is working on. Bring a friend! Everyone is welcome\, whether you&#39\;ve been with us at Vibe Coworks for Free 1st Fridays\, or just want to come join in the fun. *Must be 21+
LOCATION:Crabtree Kitchen + Bar 19225 8th Avenue Northeast Poulsbo\, Washington
UID:e.2061.10838
SEQUENCE:3
DTSTAMP:20260425T181439Z
URL:https://business.greaterkitsapchamber.com/events/details/vibe-coworks-1st-friday-happy-hour-06-06-2025-10838
END:VEVENT

END:VCALENDAR
